BEGIN:VCALENDAR
VERSION:2.0
PRODID:-//Corvettes of WA - ECPv6.15.20//NONSGML v1.0//EN
CALSCALE:GREGORIAN
METHOD:PUBLISH
X-WR-CALNAME:Corvettes of WA
X-ORIGINAL-URL:https://corvettesofwa.com
X-WR-CALDESC:Events for Corvettes of WA
REFRESH-INTERVAL;VALUE=DURATION:PT1H
X-Robots-Tag:noindex
X-PUBLISHED-TTL:PT1H
BEGIN:VTIMEZONE
TZID:Australia/Perth
BEGIN:STANDARD
TZOFFSETFROM:+0800
TZOFFSETTO:+0800
TZNAME:AWST
DTSTART:20250101T000000
END:STANDARD
END:VTIMEZONE
BEGIN:VEVENT
DTSTART;TZID=Australia/Perth:20260426T080000
DTEND;TZID=Australia/Perth:20260426T170000
DTSTAMP:20260420T232302
CREATED:20260225T091006Z
LAST-MODIFIED:20260412T072413Z
UID:10682-1777190400-1777222800@corvettesofwa.com
SUMMARY:April 2026 - Northam Motor Sport Festival - Flying 50 & Shannons Car Show
DESCRIPTION:We have been invited to attend this year’s Shannons Show & Shine as part of the Northam Motorsport Festival on Sunday 26 April (ANZAC Day Long Weekend)\, and registrations are now open for our club display. \nLast year we had a fantastic turnout and Corvettes of W.A. took home the trophy for Best Club Display\, so let’s get a strong group together and aim to do it again. \nWhat’s on offer:\n• Convenient location (only 1.5 hr drive from Perth)\n• Easy access via Peel Terrace and Minson Ave\n• Short display time (10am – 2pm)\n• Expanded display area at Bernard Park along the Avon River (grassed display area also available)\n• There will be plenty to do:\n◦ Watch the action of the Northam Flying Fifty “round-the-houses”\n◦ Plenty of food vans\, coffee vans and cafes nearby\n◦ Wander around town and walk through the pits to see competing cars\n◦ Sit in the shade by the Avon River\n◦ Mix with other car enthusiasts and check out a great range of vehicles \nShannons will be presenting awards for Best Club Display and Best Car (as judged by the VSCC)\, so presentation counts. \nOn the day:\nCars are to arrive between 9:00 and 9:30am to allow time to set up before the show starts at 10:00am.\nCars are able to leave from 2:00pm following presentations. \nI will also arrange a meeting time and location for those who wish to travel up in convoy. \nPlease register ASAP if you would like to attend and display your Corvette\, so we can confirm final numbers and ensure we are allocated sufficient space. \nRegards\, \nNatalie Page\nM 0439 954 947\nE social@corvettesofwa.com\nPresident & Social DirectorWe have been invited to attend this year’s Shannons Show & Shine as part of the Northam Motorsport Festival on Sunday 26 April (ANZAC Day Long Weekend)\, and registrations are now open for our club display. \nLast year we had a fantastic turnout and Corvettes of W.A. took home the trophy for Best Club Display\, so let’s get a strong group together and aim to do it again. \nWhat’s on offer:\n• Convenient location (only 1.5 hr drive from Perth)\n• Easy access via Peel Terrace and Minson Ave\n• Short display time (10am – 2pm)\n• Expanded display area at Bernard Park along the Avon River (grassed display area also available)\n• There will be plenty to do:\n◦ Watch the action of the Northam Flying Fifty “round-the-houses”\n◦ Plenty of food vans\, coffee vans and cafes nearby\n◦ Wander around town and walk through the pits to see competing cars\n◦ Sit in the shade by the Avon River\n◦ Mix with other car enthusiasts and check out a great range of vehicles \nShannons will be presenting awards for Best Club Display and Best Car (as judged by the VSCC)\, so presentation counts. \nOn the day:\nCars are to arrive between 9:00 and 9:30am to allow time to set up before the show starts at 10:00am.\nCars are able to leave from 2:00pm following presentations. \nI will also arrange a meeting time and location for those who wish to travel up in convoy. \nPlease register ASAP if you would like to attend and display your Corvette\, so we can confirm final numbers and ensure we are allocated sufficient space. \nRegards\, \nNatalie Page\nM 0439 954 947\nE social@corvettesofwa.com\nPresident & Social Director \n \n 
URL:https://corvettesofwa.com/event/april-2026-northam-motor-sport-festival-flying-50-shannons-car-show/
LOCATION:Northam Flying Fifty\, Minson Avenue\, Northam\, WA\, 6401\, Australia
ORGANIZER;CN="Natalie":MAILTO:social@corvettesofwa.com
END:VEVENT
BEGIN:VEVENT
DTSTART;TZID=Australia/Perth:20260503T103000
DTEND;TZID=Australia/Perth:20260503T143000
DTSTAMP:20260420T232302
CREATED:20260217T091222Z
LAST-MODIFIED:20260225T090847Z
UID:10614-1777804200-1777818600@corvettesofwa.com
SUMMARY:April 2026 - Sunday Cruise - Whiteman Park Motor Museum
DESCRIPTION:** Date Changed**\nOn Sunday 19th April we will be having a club BBQ and Corvette display at Whiteman Park outside the Motor Museum from 10:30am – 2:30pm\nThe club will be providing the food so all you’ll to bring is your Corvette! \nPlease RSVP ASAP for catering purposes. \nMembers can get entry to the museum at the discounted rate of $10pp on the day. \nRegards\,\nNatalie Page\nM 0439 954 947 E social@corvettesofwa.com\nSocial Director
URL:https://corvettesofwa.com/event/april-2026-sunday-cruise-whiteman-park-motor-museum/
LOCATION:Motor Museum in Whiteman Park\, Lot 99a Lord Street\, Whiteman\, WA\, 6068\, Australia
ORGANIZER;CN="Natalie":MAILTO:social@corvettesofwa.com
END:VEVENT
END:VCALENDAR